BEGIN:VCALENDAR
VERSION:2.0
PRODID:icalendar-ruby
CALSCALE:GREGORIAN
METHOD:PUBLISH
BEGIN:VEVENT
DTSTAMP:20260421T235012Z
UID:401e13ea-260c-40e1-94c8-b2dabffb9667
DTSTART:20190928T120000
DTEND:20190929T000000
DESCRIPTION:<p><br></p><p><a href="https://www.facebook.com/hashtag/20years
 ofdance" target="_blank" style="color: rgb(54\, 88\, 153)\;">#20YearsOfDan
 ce</a></p><p><span style="color: rgb(29\, 33\, 41)\; background-color: rgb
 (255\, 255\, 255)\;">All DANCE\, no matter what the style\, has something 
 in common\, it is a vital part of any celebration! The rhythmic movement o
 f the body to music\, a form of communication between humans\, DANCE embod
 ies emotions\, expresses ideas and tells a story… this is ours…</span>
 </p><p><br></p><p><a href="https://www.facebook.com/hashtag/decade2decade"
  target="_blank" style="color: rgb(54\, 88\, 153)\;">#Decade2Decade</a></p
 ><p><span style="color: rgb(29\, 33\, 41)\; background-color: rgb(255\, 25
 5\, 255)\;">Thousands of passionate party people\, a diverse music policy\
 , an unbeatable vibe\, hazy DANCE floor memories\, beautiful faces\, beaut
 iful bodies\, dazzling lights\, balmy summer days into nights\, a rhythm t
 hat beats inside you\, a paradise for all partygoers\, a cosmopolitan mix 
 of clubbers\, local residents\, freaks\, mature partygoers\, fresh faces\,
  a wide range of global visitors and just plain musical maniacs! A day at 
 H2O is an authentic experience embodying the magical energy uniting people
  with a common love for DANCE music\, its a mystical love affair with DANC
 E. An experience hard to put into words… you just feel it.</span></p><p>
 <span style="color: rgb(29\, 33\, 41)\; background-color: rgb(255\, 255\, 
 255)\;">Since its inception 20 years ago\, H2O has provided so many with a
 n unforgettable DANCE experience! … If it’s a party you’re looking f
 or … H2O is the place!</span></p><p><br></p><p><a href="https://www.face
 book.com/hashtag/daytimedancing" target="_blank" style="color: rgb(54\, 88
 \, 153)\;">#DaytimeDancing</a></p><p><span style="color: rgb(29\, 33\, 41)
 \; background-color: rgb(255\, 255\, 255)\;">February 1999 H2O Party was b
 orn\, and dove into a new dimension in event production\, becoming the cou
 ntry’s leading outdoor\, daytime DANCE music festival\, one of the best 
 parties in the world and the first daytime DANCE party in Africa!!! Over t
 he past 20 years H2O has held the title of undisputed DANCE party champion
 \, and has elevated the South African DANCE music scene to a global scale\
 , providing the most in demand\, ground breaking\, and outrageously talent
 ed International and local Djs & artists to every explosive H2O DANCE cele
 bration!</span></p><p><br></p><p><a href="https://www.facebook.com/hashtag
 /h2o2019" target="_blank" style="color: rgb(54\, 88\, 153)\;">#H2O2019</a>
 </p><p><span style="color: rgb(29\, 33\, 41)\; background-color: rgb(255\,
  255\, 255)\;">South Africa's iconic daytime 2 night time DANCE music fest
 ival turns 20!!!</span></p><p><span style="color: rgb(29\, 33\, 41)\; back
 ground-color: rgb(255\, 255\, 255)\;">We’re taking 20 magical years of H
 2O party and creating one unforgettable anniversary event!</span></p><p><s
 pan style="color: rgb(29\, 33\, 41)\; background-color: rgb(255\, 255\, 25
 5)\;">The city better brace itself for the party of the year! </span></p><
 p><span style="color: rgb(29\, 33\, 41)\; background-color: rgb(255\, 255\
 , 255)\;">Party guests can expect to find the already super impressive H2O
  set-up enhanced with additional production elements and surprise birthday
  fun! With some of the hottest names in the international DANCE music move
 ment together with a collection of the finest South African talent! </span
 ></p><p><br></p><p><br></p><p><span style="color: rgb(29\, 33\, 41)\; back
 ground-color: rgb(255\, 255\, 255)\;">*Phase 1 artist release info coming 
 soon!</span></p>
LOCATION:Wild Waters\, Boksburg
SUMMARY:H2O Decade 2 Decade
URL;VALUE=URI:https://h2o.howler.co.za/h2odecade2decade
END:VEVENT
END:VCALENDAR
